BEGIN:VCALENDAR
VERSION:2.0
PRODID:-//Psie reguły - ECPv6.0.10//NONSGML v1.0//EN
CALSCALE:GREGORIAN
METHOD:PUBLISH
X-WR-CALNAME:Psie reguły
X-ORIGINAL-URL:https://www.psiereguly.pl
X-WR-CALDESC:Events for Psie reguły
REFRESH-INTERVAL;VALUE=DURATION:PT1H
X-Robots-Tag:noindex
X-PUBLISHED-TTL:PT1H
BEGIN:VTIMEZONE
TZID:Europe/Warsaw
BEGIN:DAYLIGHT
TZOFFSETFROM:+0100
TZOFFSETTO:+0200
TZNAME:CEST
DTSTART:20230326T010000
END:DAYLIGHT
BEGIN:STANDARD
TZOFFSETFROM:+0200
TZOFFSETTO:+0100
TZNAME:CET
DTSTART:20231029T010000
END:STANDARD
END:VTIMEZONE
BEGIN:VEVENT
DTSTART;TZID=Europe/Warsaw:20231117T180000
DTEND;TZID=Europe/Warsaw:20231117T190000
DTSTAMP:20260425T144533
CREATED:20231018T110526Z
LAST-MODIFIED:20231018T110526Z
UID:722-1700244000-1700247600@www.psiereguly.pl
SUMMARY:Kurs Starszaki grupa B spotkanie 7
DESCRIPTION:
URL:https://www.psiereguly.pl/event/kurs-starszaki-grupa-b-spotkanie-7/
CATEGORIES:Kurs Starszaki
ORGANIZER;CN="Psie%20Regu%C5%82y":MAILTO:kontakt@psiereguly.pl
END:VEVENT
BEGIN:VEVENT
DTSTART;TZID=Europe/Warsaw:20231115T161500
DTEND;TZID=Europe/Warsaw:20231115T171500
DTSTAMP:20260425T144533
CREATED:20231018T110132Z
LAST-MODIFIED:20231018T110132Z
UID:708-1700064900-1700068500@www.psiereguly.pl
SUMMARY:Kurs Maluchy grupa C spotkanie 7
DESCRIPTION:
URL:https://www.psiereguly.pl/event/kurs-maluchy-grupa-c-spotkanie-7/
CATEGORIES:Kurs Maluchy
ORGANIZER;CN="Psie%20Regu%C5%82y":MAILTO:kontakt@psiereguly.pl
END:VEVENT
BEGIN:VEVENT
DTSTART;TZID=Europe/Warsaw:20231110T180000
DTEND;TZID=Europe/Warsaw:20231110T190000
DTSTAMP:20260425T144533
CREATED:20231018T110452Z
LAST-MODIFIED:20231018T110452Z
UID:720-1699639200-1699642800@www.psiereguly.pl
SUMMARY:Kurs Starszaki grupa B spotkanie 6
DESCRIPTION:
URL:https://www.psiereguly.pl/event/kurs-starszaki-grupa-b-spotkanie-6/
CATEGORIES:Kurs Starszaki
ORGANIZER;CN="Psie%20Regu%C5%82y":MAILTO:kontakt@psiereguly.pl
END:VEVENT
BEGIN:VEVENT
DTSTART;TZID=Europe/Warsaw:20231108T161500
DTEND;TZID=Europe/Warsaw:20231108T171500
DTSTAMP:20260425T144533
CREATED:20231018T110059Z
LAST-MODIFIED:20231018T110059Z
UID:706-1699460100-1699463700@www.psiereguly.pl
SUMMARY:Kurs Maluchy grupa C spotkanie 6
DESCRIPTION:
URL:https://www.psiereguly.pl/event/kurs-maluchy-grupa-c-spotkanie-6/
CATEGORIES:Kurs Maluchy
ORGANIZER;CN="Psie%20Regu%C5%82y":MAILTO:kontakt@psiereguly.pl
END:VEVENT
BEGIN:VEVENT
DTSTART;TZID=Europe/Warsaw:20231103T180000
DTEND;TZID=Europe/Warsaw:20231103T190000
DTSTAMP:20260425T144533
CREATED:20231018T110426Z
LAST-MODIFIED:20231018T110426Z
UID:718-1699034400-1699038000@www.psiereguly.pl
SUMMARY:Kurs Starszaki grupa B spotkanie 5
DESCRIPTION:
URL:https://www.psiereguly.pl/event/kurs-starszaki-grupa-b-spotkanie-5/
CATEGORIES:Kurs Starszaki
ORGANIZER;CN="Psie%20Regu%C5%82y":MAILTO:kontakt@psiereguly.pl
END:VEVENT
BEGIN:VEVENT
DTSTART;TZID=Europe/Warsaw:20231101T161500
DTEND;TZID=Europe/Warsaw:20231101T171500
DTSTAMP:20260425T144533
CREATED:20231018T110013Z
LAST-MODIFIED:20231018T110013Z
UID:704-1698855300-1698858900@www.psiereguly.pl
SUMMARY:Kurs Maluchy grupa C spotkanie 5
DESCRIPTION:
URL:https://www.psiereguly.pl/event/kurs-maluchy-grupa-c-spotkanie-5/
CATEGORIES:Kurs Maluchy
ORGANIZER;CN="Psie%20Regu%C5%82y":MAILTO:kontakt@psiereguly.pl
END:VEVENT
BEGIN:VEVENT
DTSTART;TZID=Europe/Warsaw:20231027T180000
DTEND;TZID=Europe/Warsaw:20231027T190000
DTSTAMP:20260425T144533
CREATED:20231018T110334Z
LAST-MODIFIED:20231018T110613Z
UID:716-1698429600-1698433200@www.psiereguly.pl
SUMMARY:Kurs Starszaki grupa B spotkanie 4
DESCRIPTION:
URL:https://www.psiereguly.pl/event/kurs-starszaki-grupa-b-spotkanie-3/
CATEGORIES:Kurs Starszaki
ORGANIZER;CN="Psie%20Regu%C5%82y":MAILTO:kontakt@psiereguly.pl
END:VEVENT
BEGIN:VEVENT
DTSTART;TZID=Europe/Warsaw:20231026T170000
DTEND;TZID=Europe/Warsaw:20231026T180000
DTSTAMP:20260425T144533
CREATED:20231018T105332Z
LAST-MODIFIED:20231018T105332Z
UID:690-1698339600-1698343200@www.psiereguly.pl
SUMMARY:Kurs Maluchy grupa B spotkanie 7
DESCRIPTION:
URL:https://www.psiereguly.pl/event/kurs-maluchy-grupa-b-spotkanie-7/
CATEGORIES:Kurs Maluchy
ORGANIZER;CN="Psie%20Regu%C5%82y":MAILTO:kontakt@psiereguly.pl
END:VEVENT
BEGIN:VEVENT
DTSTART;TZID=Europe/Warsaw:20231025T173000
DTEND;TZID=Europe/Warsaw:20231025T183000
DTSTAMP:20260425T144533
CREATED:20230906T111428Z
LAST-MODIFIED:20230906T111428Z
UID:674-1698255000-1698258600@www.psiereguly.pl
SUMMARY:Kurs Starszaki grupa A spotkanie 7
DESCRIPTION:
URL:https://www.psiereguly.pl/event/kurs-starszaki-grupa-a-spotkanie-7/
CATEGORIES:Kurs Starszaki
ORGANIZER;CN="Psie%20Regu%C5%82y":MAILTO:kontakt@psiereguly.pl
END:VEVENT
BEGIN:VEVENT
DTSTART;TZID=Europe/Warsaw:20231025T161500
DTEND;TZID=Europe/Warsaw:20231025T171500
DTSTAMP:20260425T144533
CREATED:20231018T105845Z
LAST-MODIFIED:20231018T105845Z
UID:702-1698250500-1698254100@www.psiereguly.pl
SUMMARY:Kurs Maluchy grupa C spotkanie 4
DESCRIPTION:
URL:https://www.psiereguly.pl/event/kurs-maluchy-grupa-c-spotkanie-4/
CATEGORIES:Kurs Maluchy
ORGANIZER;CN="Psie%20Regu%C5%82y":MAILTO:kontakt@psiereguly.pl
END:VEVENT
BEGIN:VEVENT
DTSTART;TZID=Europe/Warsaw:20231020T180000
DTEND;TZID=Europe/Warsaw:20231020T190000
DTSTAMP:20260425T144533
CREATED:20231018T110307Z
LAST-MODIFIED:20231018T110553Z
UID:714-1697824800-1697828400@www.psiereguly.pl
SUMMARY:Kurs Starszaki grupa B spotkanie 3
DESCRIPTION:
URL:https://www.psiereguly.pl/event/kurs-starszaki-grupa-b-spotkanie-2-2/
CATEGORIES:Kurs Starszaki
ORGANIZER;CN="Psie%20Regu%C5%82y":MAILTO:kontakt@psiereguly.pl
END:VEVENT
BEGIN:VEVENT
DTSTART;TZID=Europe/Warsaw:20231019T170000
DTEND;TZID=Europe/Warsaw:20231019T180000
DTSTAMP:20260425T144533
CREATED:20231018T105255Z
LAST-MODIFIED:20231018T105255Z
UID:688-1697734800-1697738400@www.psiereguly.pl
SUMMARY:Kurs Maluchy grupa B spotkanie 6
DESCRIPTION:
URL:https://www.psiereguly.pl/event/kurs-maluchy-grupa-b-spotkanie-6/
CATEGORIES:Kurs Maluchy
ORGANIZER;CN="Psie%20Regu%C5%82y":MAILTO:kontakt@psiereguly.pl
END:VEVENT
BEGIN:VEVENT
DTSTART;TZID=Europe/Warsaw:20231018T173000
DTEND;TZID=Europe/Warsaw:20231018T183000
DTSTAMP:20260425T144533
CREATED:20230906T111513Z
LAST-MODIFIED:20230906T111513Z
UID:676-1697650200-1697653800@www.psiereguly.pl
SUMMARY:Kurs Starszaki grupa A spotkanie 6
DESCRIPTION:
URL:https://www.psiereguly.pl/event/kurs-starszaki-grupa-a-spotkanie-6/
CATEGORIES:Kurs Starszaki
ORGANIZER;CN="Psie%20Regu%C5%82y":MAILTO:kontakt@psiereguly.pl
END:VEVENT
BEGIN:VEVENT
DTSTART;TZID=Europe/Warsaw:20231018T161500
DTEND;TZID=Europe/Warsaw:20231018T171500
DTSTAMP:20260425T144533
CREATED:20231018T105819Z
LAST-MODIFIED:20231018T105819Z
UID:700-1697645700-1697649300@www.psiereguly.pl
SUMMARY:Kurs Maluchy grupa C spotkanie 3
DESCRIPTION:
URL:https://www.psiereguly.pl/event/kurs-maluchy-grupa-c-spotkanie-3/
CATEGORIES:Kurs Maluchy
ORGANIZER;CN="Psie%20Regu%C5%82y":MAILTO:kontakt@psiereguly.pl
END:VEVENT
BEGIN:VEVENT
DTSTART;TZID=Europe/Warsaw:20231013T180000
DTEND;TZID=Europe/Warsaw:20231013T190000
DTSTAMP:20260425T144533
CREATED:20231018T110244Z
LAST-MODIFIED:20231018T110244Z
UID:712-1697220000-1697223600@www.psiereguly.pl
SUMMARY:Kurs Starszaki grupa B spotkanie 2
DESCRIPTION:
URL:https://www.psiereguly.pl/event/kurs-starszaki-grupa-b-spotkanie-2/
CATEGORIES:Kurs Starszaki
ORGANIZER;CN="Psie%20Regu%C5%82y":MAILTO:kontakt@psiereguly.pl
END:VEVENT
BEGIN:VEVENT
DTSTART;TZID=Europe/Warsaw:20231012T170000
DTEND;TZID=Europe/Warsaw:20231012T180000
DTSTAMP:20260425T144533
CREATED:20231018T105443Z
LAST-MODIFIED:20231018T105443Z
UID:694-1697130000-1697133600@www.psiereguly.pl
SUMMARY:Kurs Maluchy grupa B spotkanie 5
DESCRIPTION:
URL:https://www.psiereguly.pl/event/kurs-maluchy-grupa-b-spotkanie-5-2/
CATEGORIES:Kurs Maluchy
ORGANIZER;CN="Psie%20Regu%C5%82y":MAILTO:kontakt@psiereguly.pl
END:VEVENT
BEGIN:VEVENT
DTSTART;TZID=Europe/Warsaw:20231011T184500
DTEND;TZID=Europe/Warsaw:20231011T194500
DTSTAMP:20260425T144533
CREATED:20231018T111127Z
LAST-MODIFIED:20231018T111127Z
UID:734-1697049900-1697053500@www.psiereguly.pl
SUMMARY:Kurs Rally-O grupa A spotkanie 5
DESCRIPTION:
URL:https://www.psiereguly.pl/event/kurs-rally-o-grupa-a-spotkanie-5/
CATEGORIES:Kurs Rally-O
ORGANIZER;CN="Psie%20Regu%C5%82y":MAILTO:kontakt@psiereguly.pl
END:VEVENT
BEGIN:VEVENT
DTSTART;TZID=Europe/Warsaw:20231011T173000
DTEND;TZID=Europe/Warsaw:20231011T183000
DTSTAMP:20260425T144533
CREATED:20230906T111258Z
LAST-MODIFIED:20231018T105516Z
UID:670-1697045400-1697049000@www.psiereguly.pl
SUMMARY:Kurs Starszaki grupa A spotkanie 5
DESCRIPTION:
URL:https://www.psiereguly.pl/event/kurs-starszaki-grupa-a-spotkanie-5/
CATEGORIES:Kurs Starszaki
ORGANIZER;CN="Psie%20Regu%C5%82y":MAILTO:kontakt@psiereguly.pl
END:VEVENT
BEGIN:VEVENT
DTSTART;TZID=Europe/Warsaw:20231011T161500
DTEND;TZID=Europe/Warsaw:20231011T171500
DTSTAMP:20260425T144533
CREATED:20231018T105739Z
LAST-MODIFIED:20231018T105739Z
UID:698-1697040900-1697044500@www.psiereguly.pl
SUMMARY:Kurs Maluchy grupa C spotkanie 2
DESCRIPTION:
URL:https://www.psiereguly.pl/event/kurs-maluchy-grupa-c-spotkanie-2/
CATEGORIES:Kurs Maluchy
ORGANIZER;CN="Psie%20Regu%C5%82y":MAILTO:kontakt@psiereguly.pl
END:VEVENT
BEGIN:VEVENT
DTSTART;TZID=Europe/Warsaw:20231006T180000
DTEND;TZID=Europe/Warsaw:20231006T190000
DTSTAMP:20260425T144533
CREATED:20231018T110213Z
LAST-MODIFIED:20231018T110213Z
UID:710-1696615200-1696618800@www.psiereguly.pl
SUMMARY:Kurs Starszaki grupa B spotkanie 1
DESCRIPTION:
URL:https://www.psiereguly.pl/event/kurs-starszaki-grupa-b-spotkanie-1/
CATEGORIES:Kurs Starszaki
ORGANIZER;CN="Psie%20Regu%C5%82y":MAILTO:kontakt@psiereguly.pl
END:VEVENT
BEGIN:VEVENT
DTSTART;TZID=Europe/Warsaw:20231005T170000
DTEND;TZID=Europe/Warsaw:20231005T180000
DTSTAMP:20260425T144533
CREATED:20231018T105407Z
LAST-MODIFIED:20231018T105407Z
UID:692-1696525200-1696528800@www.psiereguly.pl
SUMMARY:Kurs Maluchy grupa B spotkanie 4
DESCRIPTION:
URL:https://www.psiereguly.pl/event/kurs-maluchy-grupa-b-spotkanie-4-2/
CATEGORIES:Kurs Maluchy
ORGANIZER;CN="Psie%20Regu%C5%82y":MAILTO:kontakt@psiereguly.pl
END:VEVENT
BEGIN:VEVENT
DTSTART;TZID=Europe/Warsaw:20231004T184500
DTEND;TZID=Europe/Warsaw:20231004T194500
DTSTAMP:20260425T144533
CREATED:20231018T111052Z
LAST-MODIFIED:20231018T111052Z
UID:732-1696445100-1696448700@www.psiereguly.pl
SUMMARY:Kurs Rally-O grupa A spotkanie 4
DESCRIPTION:
URL:https://www.psiereguly.pl/event/kurs-rally-o-grupa-a-spotkanie-4/
CATEGORIES:Kurs Rally-O
ORGANIZER;CN="Psie%20Regu%C5%82y":MAILTO:kontakt@psiereguly.pl
END:VEVENT
BEGIN:VEVENT
DTSTART;TZID=Europe/Warsaw:20231004T173000
DTEND;TZID=Europe/Warsaw:20231004T183000
DTSTAMP:20260425T144533
CREATED:20230906T111226Z
LAST-MODIFIED:20230906T111226Z
UID:668-1696440600-1696444200@www.psiereguly.pl
SUMMARY:Kurs Starszaki grupa A spotkanie 4
DESCRIPTION:
URL:https://www.psiereguly.pl/event/kurs-starszaki-grupa-a-spotkanie-4/
CATEGORIES:Kurs Starszaki
ORGANIZER;CN="Psie%20Regu%C5%82y":MAILTO:kontakt@psiereguly.pl
END:VEVENT
BEGIN:VEVENT
DTSTART;TZID=Europe/Warsaw:20231004T161500
DTEND;TZID=Europe/Warsaw:20231004T171500
DTSTAMP:20260425T144533
CREATED:20231018T105652Z
LAST-MODIFIED:20231018T105652Z
UID:696-1696436100-1696439700@www.psiereguly.pl
SUMMARY:Kurs Maluchy grupa C spotkanie 1
DESCRIPTION:
URL:https://www.psiereguly.pl/event/kurs-maluchy-grupa-c-spotkanie-1/
CATEGORIES:Kurs Maluchy
ORGANIZER;CN="Psie%20Regu%C5%82y":MAILTO:kontakt@psiereguly.pl
END:VEVENT
BEGIN:VEVENT
DTSTART;TZID=Europe/Warsaw:20230928T183000
DTEND;TZID=Europe/Warsaw:20230928T193000
DTSTAMP:20260425T144533
CREATED:20230807T160759Z
LAST-MODIFIED:20230807T160759Z
UID:617-1695925800-1695929400@www.psiereguly.pl
SUMMARY:Kurs Maluchy grupa A spotkanie 7
DESCRIPTION:
URL:https://www.psiereguly.pl/event/kurs-maluchy-grupa-a-spotkanie-7/
CATEGORIES:Kurs Maluchy
ORGANIZER;CN="Psie%20Regu%C5%82y":MAILTO:kontakt@psiereguly.pl
END:VEVENT
BEGIN:VEVENT
DTSTART;TZID=Europe/Warsaw:20230928T170000
DTEND;TZID=Europe/Warsaw:20230928T180000
DTSTAMP:20260425T144533
CREATED:20231018T105032Z
LAST-MODIFIED:20231018T105032Z
UID:682-1695920400-1695924000@www.psiereguly.pl
SUMMARY:Kurs Maluchy grupa B spotkanie 3
DESCRIPTION:
URL:https://www.psiereguly.pl/event/kurs-maluchy-grupa-b-spotkanie-3/
CATEGORIES:Kurs Maluchy
ORGANIZER;CN="Psie%20Regu%C5%82y":MAILTO:kontakt@psiereguly.pl
END:VEVENT
BEGIN:VEVENT
DTSTART;TZID=Europe/Warsaw:20230927T184500
DTEND;TZID=Europe/Warsaw:20230927T194500
DTSTAMP:20260425T144533
CREATED:20231018T111015Z
LAST-MODIFIED:20231018T111015Z
UID:730-1695840300-1695843900@www.psiereguly.pl
SUMMARY:Kurs Rally-O grupa A spotkanie 3
DESCRIPTION:
URL:https://www.psiereguly.pl/event/kurs-rally-o-grupa-a-spotkanie-3/
CATEGORIES:Kurs Rally-O
ORGANIZER;CN="Psie%20Regu%C5%82y":MAILTO:kontakt@psiereguly.pl
END:VEVENT
BEGIN:VEVENT
DTSTART;TZID=Europe/Warsaw:20230927T173000
DTEND;TZID=Europe/Warsaw:20230927T183000
DTSTAMP:20260425T144533
CREATED:20230906T111157Z
LAST-MODIFIED:20230906T111157Z
UID:666-1695835800-1695839400@www.psiereguly.pl
SUMMARY:Kurs Starszaki grupa A spotkanie 3
DESCRIPTION:
URL:https://www.psiereguly.pl/event/kurs-starszaki-grupa-a-spotkanie-3/
CATEGORIES:Kurs Starszaki
ORGANIZER;CN="Psie%20Regu%C5%82y":MAILTO:kontakt@psiereguly.pl
END:VEVENT
BEGIN:VEVENT
DTSTART;TZID=Europe/Warsaw:20230921T183000
DTEND;TZID=Europe/Warsaw:20230921T193000
DTSTAMP:20260425T144533
CREATED:20230807T160728Z
LAST-MODIFIED:20230807T160728Z
UID:615-1695321000-1695324600@www.psiereguly.pl
SUMMARY:Kurs Maluchy grupa A spotkanie 6
DESCRIPTION:
URL:https://www.psiereguly.pl/event/kurs-maluchy-grupa-a-spotkanie-6/
CATEGORIES:Kurs Maluchy
ORGANIZER;CN="Psie%20Regu%C5%82y":MAILTO:kontakt@psiereguly.pl
END:VEVENT
BEGIN:VEVENT
DTSTART;TZID=Europe/Warsaw:20230921T170000
DTEND;TZID=Europe/Warsaw:20230921T180000
DTSTAMP:20260425T144533
CREATED:20230906T111708Z
LAST-MODIFIED:20230906T111708Z
UID:680-1695315600-1695319200@www.psiereguly.pl
SUMMARY:Kurs Maluchy grupa B spotkanie 2
DESCRIPTION:
URL:https://www.psiereguly.pl/event/kurs-maluchy-grupa-b-spotkanie-2/
CATEGORIES:Kurs Maluchy
ORGANIZER;CN="Psie%20Regu%C5%82y":MAILTO:kontakt@psiereguly.pl
END:VEVENT
END:VCALENDAR